BEGIN:VCALENDAR
VERSION:2.0
PRODID:-//GOW Entreprendre - ECPv6.15.20//NONSGML v1.0//EN
CALSCALE:GREGORIAN
METHOD:PUBLISH
X-WR-CALNAME:GOW Entreprendre
X-ORIGINAL-URL:https://www.gow-entreprendre.be
X-WR-CALDESC:Events for GOW Entreprendre
REFRESH-INTERVAL;VALUE=DURATION:PT1H
X-Robots-Tag:noindex
X-PUBLISHED-TTL:PT1H
BEGIN:VTIMEZONE
TZID:UTC
BEGIN:STANDARD
TZOFFSETFROM:+0000
TZOFFSETTO:+0000
TZNAME:UTC
DTSTART:20250101T000000
END:STANDARD
END:VTIMEZONE
BEGIN:VEVENT
DTSTART;TZID=UTC:20260427T180000
DTEND;TZID=UTC:20260430T210000
DTSTAMP:20260421T234520
CREATED:20260415T042854Z
LAST-MODIFIED:20260415T042854Z
UID:4458-1777312800-1777582800@www.gow-entreprendre.be
SUMMARY:Vivre de sa pratique créative
DESCRIPTION:De nombreux artistes\, artisans\, designers ou créateurs développent une pratique riche et exigeante\, mais rencontrent des difficultés lorsqu’il s’agit de transformer cette pratique en activité professionnelle structurée. \n \nLes questions qui reviennent le plus souvent sont très concrètes :\n– Comment transformer ma pratique en offre claire ?\n– À qui s’adressent réellement mes créations ?\n– Comment fixer mes prix et organiser mes revenus ?\n– Quel statut choisir pour démarrer ou développer mon activité ?\n– Comment se repérer dans le secteur culturel et créatif en Belgique ?\n\nCette formation vise à répondre à ces questions en proposant une approche à la fois pragmatique\, structurante et adaptée aux réalités du secteur artistique et culturel. \n🎯 Clarifier leur pratique créative et leur positionnement \n🎯 Formuler des offres concrètes et activables \n🎯 Identifier leurs publics et leurs circuits de diffusion \n🎯 Comprendre l’écosystème artistique et culturel en Belgique francophone \n🎯 Définir un modèle économique simple et coherent \n🎯 Identifier les statuts possibles pour exercer leur activité \n🎯 Construire un plan d’action pour lancer ou structurer leur activité \n  \nDu 27 au 30 avril 2026 \nFormation gratuite en ligne en 4 soirées de 18h à 21h \n  \nIntervenante : Stéphanie LADRIÈRE – 0499 83 09 26 – design.interetgeneral@gmail.com  \n\nPROGRAMME DÉTAILLÉ\n  \nFormat : Formation en ligne participative / Durée : 4 séances de 3h00\nMéthode : apports ciblés\, études de cas\, exercices pratiques et travail sur les projets des participants. \n \n\nLundi 27 Avril (18h-21h) : De la pratique à l’offre\n\nComprendre la différence entre pratique artistique et activité professionnelle\, identifier ses productions et compétences et transformer sa pratique en propositions concrètes (objets\, services\, ateliers\, commandes\, éditions).\n \n \n\nMardi 28 Avril (18h-21h) : Publics\, diffusion et structures du secteur culturel\n\nIdentifier ses publics\, comprendre les circuits de diffusion des œuvres et des projets\, et découvrir les principales structures du secteur culturel en Belgique francophone.\n \n \n\nMercredi 29 Avril  (18h-21h) : Revenus\, prix et statuts\n\nComprendre les différentes sources de revenus dans les métiers créatifs\, construire un modèle économique simple et découvrir les statuts possibles en Belgique : indépendant\, coopérative d’activité (Smart)\, ASBL et modèles hybrides.\n \n \n\nJeudi 30 Avril (18h-21h) : Structurer et lancer son activité\n\nIdentifier ses priorités de développement\, structurer sa stratégie de lancement et construire une feuille de route pour les 90 prochains jours.\n \nRésultats attendus : \n\nUne description claire de son activité créative\n1 à 2 Offres structurées\nUne identification de ses publics et circuits de diffusion\nUn modèle économique simplifié\nUn scénario de statut possible\nUne feuille de route concrète pour développer son activité\n\nApproche pédagogique \nLa formation repose sur une approche concrète et orientée action\, adaptée aux réalités du secteur culturel et fondée sur l’expérience des participants. Elle vise à aider les créateurs à structurer leur activité sans dénaturer leur pratique artistique. \nINSCRIPTIONS ET CONDITIONS DE PARTICIPATION\nPour y participer\, il suffit d’être inscrite comme porteur de projet sur la plate- forme www.cheques-entreprises.be. \nToute personne peut bénéficier de ce dispositif d’accompagnement à la création d’entreprise (salarié\, chômeur\, indépendant à titre complémentaire ou tout autre statut). \nUn indépendant à titre principal peut en bénéficier également si c’est dans le cadre du lancement d’une nouvelle activité ou dans le cadre d’une diversification des activités existantes. \nLe dispositif prévoit que le porteur de projet doit payer une quote-part de 20% de la mission (1.440€). Dans le cadre cette session\, le montant de la quote-part à avancer est de 288€. Ce montant vous est remboursé à la clôture administrative de la session. \nLa TVA de 302\,40 € vous est offerte par GOW-Entreprendre. \n  \nContact formation : \n\nStéphanie Ladrière –  0499/83 09 26 – design.interetgeneral@gmail.com\n\nContact administratif (chèques-entreprises) : \n\nMichaël Malherbe – 0496/25 14 28 – mm@gow-entreprendre.be
URL:https://www.gow-entreprendre.be/formation/vivre-de-sa-pratique-creative/
CATEGORIES:Workshop
ATTACH;FMTTYPE=image/png:https://www.gow-entreprendre.be/wp-content/uploads/2026/04/Capture-decran-2026-03-17-a-12.12.55-copie-scaled.png
END:VEVENT
BEGIN:VEVENT
DTSTART;TZID=UTC:20260522T090000
DTEND;TZID=UTC:20260619T130000
DTSTAMP:20260421T234520
CREATED:20260415T042020Z
LAST-MODIFIED:20260415T042020Z
UID:4452-1779440400-1781874000@www.gow-entreprendre.be
SUMMARY:Développez votre activité et ma communication avec l’aide de l’IA (Intelligence Artificielle)
DESCRIPTION:Vous apprendre à utiliser l’intelligence artificielle pour gagner du temps\, simplifier votre travail quotidien et maîtriser les outils qui feront la différence dans votre activité professionnelle. \nPour qui ?\nFuturs entrepreneurs et indépendants souhaitant apprendre à utiliser un outil d’IA pour développer leur activité – aucun prérequis en intelligence artificielle nécessaire ! \n⏱ Durée : 5 sessions de 4 heures de 9h à 13h \n💻 Lieu : En ligne – accessible depuis chez vous ! \n\nVous repartirez en fin de formation avec : \n✅ Compétences concrètes : Maîtrise de ChatGPT et des outils complémentaires \n✅ Outils configurés : Projets personnalisés\, customs instructions & bibliothèque de prompts \n✅ Support complet : Accès au support en ligne \n  \nDu 22 Mai au 19 Juin 2026 \n5 vendredis de 9h à 13h  \nIntervenant : BIZARRO Anthony – info@black-pepper.digital – 0478 93 50 93 \n  \nPROGRAMME DÉTAILLÉ\n  \nVENDREDI 22 MAI (9H-13H) : Découvrir l’IA et prendre en main ChatGPT \n\nComprendre ce qu’est vraiment l’intelligence artificielle (et ce qu’elle n’est pas)\nCasser les idées reçues et les peurs\nIdentifier concrètement comment l’IA peut vous faire gagner du temps dans votre métier\nVisite guidée complète de l’interface\nLes 4 fonctionnalités essentielles à maîtriser :\n\nCustom Instructions : apprendre à ChatGPT qui vous êtes\nLes Projets : organiser votre travail par thématiques\nLa Mémoire : faire en sorte que ChatGPT se souvienne de vous\nDeep Research : chercher des informations sur le web avec sources\n\n\n\n  \nPremière mise en pratique :  Vous créerez vos propres instructions personnalisées et vous  testerez la recherche approfondie sur un sujet lié à votre activité \n  \nÀ la fin de cette session\, vous saurez naviguer dans ChatGPT et l’aurez configuré selon votre profil professionnel. \n  \nVENDREDI 29 MAI (9H-13H) Apprendre à bien communiquer avec l’IA \n  \nLa méthode RCT(OCFT) et CARTEL : les éléments d’un prompt qui fonctionne : Quel rôle donner à ChatGPT ? Comment décrire le contexte ? Quelle tâche lui confier ? Quel objectif atteindre ? Quelles contraintes respecter ? Quel format de réponse demander ? Quelle tonalité adopter ? \n  \nNous verrons des exemples concrets adaptés à différents métiers \n\nRédiger des publications pour les réseaux sociaux\nCréer des e-mails professionnels\nDéfinir ses clients idéaux (personas)\nGénérer du contenu spécifique à votre secteur\nGénérer du contenu pour un mois\nUtilisation de la fiche persona pour éviter le syndrome de la page blanche\n\n  \nAtelier pratique \n\nVous créerez vos propres prompts adaptés à votre métier\nNous les testerons ensemble et les améliorerons\nVous repartirez avec une bibliothèque de prompts prêts à l’emploi\n\n  \nÀ la fin de cette session\, vous saurez formuler des demandes précises à ChatGPT pour obtenir exactement ce dont vous avez besoin. \n  \nVENDREDI 05 JUIN (9H-13H) : Organiser son travail avec les “ Projets ChatGPT “ \n  \n\nDémonstration en direct avec un projet du formateur\nComment structurer un projet efficacement\nQuels fichiers ajouter pour rendre ChatGPT plus performant\nComment configurer les instructions spécifiques à chaque projet\n\n  \nPremier exercice collectif \n\nNous créerons ensemble un projet\nVous ajouterez des documents de référence\nVous verrez comment ChatGPT devient plus pertinent avec du contexte\n\n  \nCréation de votre projet personnel \n\nVous créerez un projet adapté à votre métier et vos besoins spécifiques\nVous y intégrerez vos documents professionnels (modèles\, guides\, procédures)\nVous le testerez sur des cas concrets de votre quotidien\nVous l’affinerez jusqu’à ce qu’il soit parfaitement opérationnel\n\n  \nÀ la fin de cette session\, vous aurez un espace de travail personnalisé dans ChatGPT qui connaît votre métier\, votre contexte et vos besoins. \n  \nVENDREDI 12 JUIN (9H-13H) : Découvrir les autres outils IA essentiels \n  \n\nGemini (Google) : l’IA de référence pour la génération d’image\nPerplexity : pour les recherches avec sources vérifiables\nNotebookLM (Google) : pour analyser et synthétiser vos documents\n\n  \nAtelier NotebookLM – Votre second cerveau \n\nImporter plusieurs documents en même temps\nFaire analyser et croiser des informations\nCréer des synthèses personnalisées\nGénérer des guides métiers à partir de vos propres ressources\nMême créer des podcasts audio à partir de vos documents !\n\n  \nAteliers Perplexity et Gemini \n\nRechercher des informations fiables avec citations\nFaire de la veille dans votre secteur\nModifier une image\n\n  \nÀ la fin de cette session\, vous connaîtrez les forces de chaque outil et saurez lequel utiliser selon vos besoins. \n  \nVENDREDI 19 JUIN (9H-13H) : Workflows IA : faire travailler les outils ensemble \n  \nComprendre la complémentarité des outils : \n\nChaque IA a ses forces : apprendre à choisir le bon outil au bon moment\nComment switcher les résultats d’un outil à un autre\nLes workflows qui multiplient l’efficacité\n\n\nINSCRIPTIONS ET CONDITIONS DE PARTICIPATION\nPrérequis : Ce workshop est conçu pour être accessible à toutes et à tous\, quel que soit votre niveau en informatique.  \nMatériel nécessaire\n\nUn ordinateur portable\nUne connexion internet\nUn compte ChatGPT (la version gratuite suffit pour commencer mais pourra être limitée avec les exercices)\n\n  \nGratuité via les Chèques Entreprises : Pour y participer\, il suffit d’être inscrite comme porteur de projet sur la plate- forme www.cheques-entreprises.be.  \nToute personne peut bénéficier de ce dispositif d’accompagnement à la création d’entreprise (salarié\, chômeur\, indépendant à titre complémentaire ou tout autre statut).  \nUn indépendant à titre principal peut en bénéficier également si c’est dans le cadre du lancement d’une nouvelle activité ou dans le cadre d’une diversification des activités existantes.  \nLe dispositif prévoit que le porteur de projet doit payer une quote-part de 20% de la mission. Dans le cadre cette session\, le montant de la mission est de 2.400€ et la quote-part à avancer est de 480€. La quote-part vous est remboursée à la clôture administrative de la session.  \nLa TVA d’un montant de 504 € vous est offerte par GOW-Entreprendre. \n  \nContact formation : \nBIZARRO Anthony – 0478/93.50.93 – info@black-pepper.digital \n  \nContact administratif (chèques-entreprises) : \nMALHERBE Michaël – 0496/25 14 28 – mm@gow-entreprendre.be \n 
URL:https://www.gow-entreprendre.be/formation/developpez-votre-activite-et-ma-communication-avec-laide-de-lia-intelligence-artificielle/
CATEGORIES:Workshop
ATTACH;FMTTYPE=image/png:https://www.gow-entreprendre.be/wp-content/uploads/2026/04/EVENT-FB_Workshop-GOW-.png
END:VEVENT
BEGIN:VEVENT
DTSTART;TZID=UTC:20260522T090000
DTEND;TZID=UTC:20260626T130000
DTSTAMP:20260421T234520
CREATED:20260415T043502Z
LAST-MODIFIED:20260415T043502Z
UID:4461-1779440400-1782478800@www.gow-entreprendre.be
SUMMARY:Le kit com' de l'entrepreneur(e)\, porteur(se) de projet
DESCRIPTION:𝐆𝐎𝐖 𝐚 𝐫𝐚𝐬𝐬𝐞𝐦𝐛𝐥𝐞́ 𝐭𝐨𝐮𝐭𝐞 𝐬𝐨𝐧 𝐞𝐱𝐩𝐞𝐫𝐭𝐢𝐬𝐞 𝐞𝐧 𝐦𝐚𝐫𝐤𝐞𝐭𝐢𝐧𝐠\, 𝐞𝐧 𝐜𝐨𝐦𝐦𝐮𝐧𝐢𝐜𝐚𝐭𝐢𝐨𝐧\, 𝐞𝐧 𝐫𝐞́𝐬𝐞𝐚𝐮𝐱 𝐬𝐨𝐜𝐢𝐚𝐮𝐱 𝐞𝐭 𝐞𝐧 𝐛𝐮𝐬𝐢𝐧𝐞𝐬𝐬 𝐜𝐨𝐚𝐜𝐡𝐢𝐧𝐠 𝐩𝐨𝐮𝐫 𝐭𝐞 𝐩𝐫𝐨𝐩𝐨𝐬𝐞𝐫 𝐝𝐞𝐬 𝐚𝐭𝐞𝐥𝐢𝐞𝐫𝐬 𝐚̀ 𝐥𝐚 𝐟𝐨𝐢𝐬 𝐬𝐭𝐫𝐚𝐭𝐞́𝐠𝐢𝐪𝐮𝐞𝐬 𝐞𝐭 𝐭𝐞𝐜𝐡𝐧𝐢𝐪𝐮𝐞𝐬.  \nCette formation\, c’est l’occasion de : \n✅ Clarifier ton message et son positionnement pour communiquer de manière juste et cohérente. \n✅ Identifier les réseaux sociaux réellement utiles pour ton activité afin d’éviter la dispersion. \n✅ Comprendre les logiques de visibilité des plateformes (Facebook\, Instagram\, LinkedIn) sans devoir devenir expert des algorithmes. \n✅ Apprendre à communiquer avec authenticité et éthique tout en restant aligné avec ses valeurs. \n✅ Mettre en place une communication simple\, régulière et efficace\, compatible avec un agenda d’entrepreneur. \n✅ Utiliser des outils accessibles pour gagner du temps et professionnaliser sa présence en ligne. \n  \n=> 𝐋𝐞 𝐛𝐞𝐬𝐭–𝐨𝐟 𝐝𝐞𝐬 𝐨𝐮𝐭𝐢𝐥𝐬 𝐝𝐞 𝐜𝐨𝐦‘ 𝐩𝐨𝐮𝐫 𝐝𝐨𝐩𝐞𝐫 𝐭𝐚 𝐯𝐢𝐬𝐢𝐛𝐢𝐥𝐢𝐭𝐞́ 𝐞𝐭 𝐝𝐞́𝐯𝐞𝐥𝐨𝐩𝐩𝐞𝐫 𝐭𝐨𝐧 𝐚𝐜𝐭𝐢𝐯𝐢𝐭𝐞́\, 𝐫𝐞́𝐮𝐧𝐢𝐬 𝐝𝐚𝐧𝐬 𝐮𝐧𝐞 𝐬𝐞𝐮𝐥𝐞 𝐟𝐨𝐫𝐦𝐚𝐭𝐢𝐨𝐧 ! \nDu 22 mai au 26 Juin 2026 \nFormation gratuite en ligne en 6 vendredi de 9h à 13h. \nIntervenante : Magali VERONESI – 0476/56 94 67 – magaliveronesi@yahoo.fr \n  \nPROGRAMME DÉTAILLÉ\nVendredi 22 Mai (9h-13h) : Fondamentaux de la stratégie de com’ \n  \n\nQue veux-tu  communiquer à qui?\nEt pourquoi (valeurs\, ikigaî\, why) ?\nQuel problème ton offre résout-elle (pain/gain)\nComment le traduire de façon éthique?\nQuels canaux de communication pour toi?\nLe storytelling en une phrase.\n\n \nVendredi 29 Mai (9h-13h) : Focus sur FaceBook \n  \n\nSimplification du réseau le plus compliqué.\nPourquoi FB te montre-t-il moins qu’avant?\nComment faire travailler FB pour toi?\nOptimisation de ta page pro.\nMes trucs\, astuces et hacks pour doper ta visibilité.\nPub payante ou pas pub payante?\n\nVendredi 05 Juin (9h-13h) : Focus sur Instagram \n  \n\nL’algorithme IG et les codes du réseau\nTa marque et ton identité visuelle.\nBonnes pratiques et positionnement.\nProduction de contenu et formats.\nPublier la même chose que sur FB ou pas?\nTrucs\, astuces et hacks pour gagner du temps.\n\n \nVendredi 12 Juin (9h-13h) : Focus sur Linkedin \n  \n\nLinkedIn est-il un réseau pour ton activité?\nChouette: un profil optimisé te mène déjà loin.\nLa cohérence\, l’arme infaillible pour être visible.\nTon personal branding et ta rubrique « info ».\nUne publication par semaine suffit.\, laquelle?\nComment construire un carrousel\, the must.\n\n \nVendredi 19 Juin (9h-13h) : les essentiels de Canva \n  \n\nCréer ton logo sur Canva\, c’est possible?\nCréer des visuels reconnaissables rapidement.\nMes trucs\, astuces et hacks pour être visible.\nLes avis clients\, ces joyaux à exposer absolument.\nCréation à la chaîne de visuels pour tes réseaux.\nDes flyers pour remplacer ta carte de visite?\n\nVendredi 26 Juin (9h-13h) : Coup d’œil sur d’autres outils efficaces \n  \n\nCréer ton calendrier de publication\nQuelle place pour l’IA dans ta com’?\nOptimiser ta fiche Google MyBusiness\nLa newsletter est-elle indiquée pour toi?\nLe bon usage des messages/mails directs.\nRéseauter en toute authenticité.\n\n. \nRésultats attendus :\n➡️ Une phrase claire pour présenter ton activité (storytelling simple et impactant). \n➡️ Un ou deux réseaux sociaux choisis et structurés\, adaptés à ton activité et à ton énergie. \n➡️ Un calendrier de communication réaliste\, qui peut se gérer en quelques heures par mois. \n➡️ Des modèles de visuels et contenus faciles à reproduire grâce à Canva. \n➡️ Des techniques simples pour améliorer ta visibilité sans devoir publier tous les jours\, ni devenir influenceur. \n➡️ Une méthode claire pour communiquer efficacement sans passer 20 heures par semaine dessus. \nApproche pédagogique :\n🔹  Ta participation active est conseillée pour bien progresser. \n🔹 Les sessions sont enregistrées (sous réserve de bon déroulement technique) et envoyées chaque semaine. \n🔹 Les slides sont envoyés en fin de formation. \n  \nPrérequis :\n✅ Avoir un ordinateur (formation impossible sur smartphone/tablette) \n✅ Avoir sous la main tous tes comptes et mots de passe. \n(Réseaux sociaux\, compte google/gmail…) \n✅ Disposer d’un compte Canva Pro : \n\nSoit via l’essai gratuit de 30 jours (activé le 2e vendredi de la formation)\nSoit via l’abonnement payant (12€/mois)\, que tu peux stopper quand tu veux.\n\nINSCRIPTIONS ET CONDITIONS DE PARTICIPATION \nPour y participer\, il suffit d’être inscrite comme porteur de projet sur la plate- forme www.cheques-entreprises.be. \nToute personne peut bénéficier de ce dispositif d’accompagnement à la création d’entreprise (salarié\, chômeur\, indépendant à titre complémentaire ou tout autre statut). \nUn indépendant à titre principal peut en bénéficier également si c’est dans le cadre du lancement d’une nouvelle activité ou dans le cadre d’une diversification des activités existantes. \nLe dispositif prévoit que le porteur de projet doit payer une quote-part de 20% de la mission (2.880€). Dans le cadre cette session\, le montant de la quote-part à avancer est de 576 €. Ce montant vous est remboursé à la clôture administrative de la session. \nLa TVA de 605 € vous est offerte par GOW-Entreprendre. \n  \nContact formation : \nMagali Veronesi  – 0476/56 94 67 – magaliveronesi@yahoo.fr \nContact administratif (chèques-entreprises) : \nMichaël Malherbe – 0496/25 14 28 – mm@gow-entreprendre.be
URL:https://www.gow-entreprendre.be/formation/le-kit-com-de-lentrepreneure-porteurse-de-projet/
CATEGORIES:Workshop
ATTACH;FMTTYPE=image/png:https://www.gow-entreprendre.be/wp-content/uploads/2026/04/Kit-COM.png
END:VEVENT
BEGIN:VEVENT
DTSTART;TZID=UTC:20260527T090000
DTEND;TZID=UTC:20260624T130000
DTSTAMP:20260421T234520
CREATED:20260415T041525Z
LAST-MODIFIED:20260415T041525Z
UID:4449-1779872400-1782306000@www.gow-entreprendre.be
SUMMARY:LinkedIn pour booster ton business en 2026
DESCRIPTION:🔵 Pourquoi se former à Linkedin en 2026 ? \n\nC’est le réseau professionnel numéro 1 en Belgique et dans le monde.\nLes analyses montrent que LinkedIn optimise les taux de conversion/vente.\nUne publication par semaine suffit pour faire la différence.\n\n💡 CETTE FORMATION EST L’OCCASION DE : \n\nComprendre le nouvel algorithme (IA)\nOptimiser ton profil LinkedIn\nCréer ta page professionnelle\nGagner en clarté\, crédibilité\, efficacité\nUtiliser le réseau pour attirer des clients\nLe tout en créant et publiant des contenus efficaces et authentiques.\n\n📅 DU 27 MAI AU 24 JUIN 2026 \n🕘 5 MERCREDIS DE 9 H À 13H EN LIGNE \n  \n🎯 𝐅𝐨𝐫𝐦𝐚𝐭𝐢𝐨𝐧 𝐠𝐫𝐚𝐭𝐮𝐢𝐭𝐞 : 𝐋𝐢𝐧𝐤𝐞𝐝𝐈𝐧 𝐩𝐨𝐮𝐫 𝐛𝐨𝐨𝐬𝐭𝐞𝐫 𝐭𝐨𝐧 𝐛𝐮𝐬𝐢𝐧𝐞𝐬𝐬 𝐞𝐧 𝟐𝟎𝟐𝟔 \n2 formatrices pour deux fois plus d’expertise et de bons plans! \n  \nIntervenantes :  \n=> Mᴀɢᴀʟɪ VERONESI – 0476/56 94 67 – ᴍᴀɢᴀʟɪᴠᴇʀᴏɴᴇsɪ@ʏᴀʜᴏᴏ.ғʀ \n=> Hᴇ́ʟᴇ̀ɴᴇ NENQUIN – 0471/436649 ʜᴇʟᴇɴᴇ.ɴᴇɴǫᴜɪɴ@ɢᴍᴀɪʟ.ᴄᴏᴍ \n  \n  \nPROGRAMME DÉTAILLÉ\n  \n𝟏. 𝐌𝐞𝐫𝐜𝐫𝐞𝐝𝐢 27 MAI 𝟐𝟎𝟐𝟔 : FORMATION + REFLEXION STRATEGIQUE \npar Magali Veronesi \n  \n\n Brise-glace/présentation des activités de chacun.e\n Pourquoi LinkedIn se positionne comme LE réseau social professionnel en 2026\n Comment combiner LinkedIn et tes autres réseaux sociaux en fonction de tes objectifs/ton projet\n Comment communiquer efficacement sur tes activités\n L’approche user centric pour attirer ton client.\n Questions stratégiques: posture entrepreneuriale\, offre de services\, publics cibles…\n\n  \n𝟐. 𝐌𝐞𝐫𝐜𝐫𝐞𝐝𝐢 03 JUIN 𝟐𝟎𝟐𝟔 : FORMATION + REFLEXION STRATEGIQUE \npar Hélène Nenquin \n\n Comprendre le rôle stratégique de ton profil dans ta visibilité et ta crédibilité.\n Apprendre à paramétrer efficacement ton profil LinkedIn pour doper ton activité.\n Les clés pour optimiser le haut de ton profil LinkedIn (photo\, bannière\, titre\, authentification).\n Mes conseils pour faire de ton profil LinkedIn une véritable vitrine et renforcer ta crédibilité.\n\n  \n𝟑. 𝐌𝐞𝐫𝐜𝐫𝐞𝐝𝐢 10 JUIN 𝟐𝟎𝟐𝟔 : FORMATION + ATELIER PRATIQUE \npar Hélène Nenquin \n\n Comprendre les différences entre profil personnel et page Entreprise.\n Choisir les bons usages en fonction de ton activité.\n Créer\, paramétrer et illustrer ta page Entreprise.\n Utiliser LinkedIn comme outil de référencement naturel.\n Les bases de la stratégie éditoriale sur LinkedIn.\n Comprendre l’intérêt des publications épinglées.\n Les recommandations pour développer un réseau soutenant et utile.\n Mes quick wins pour gagner du temps et des résultats sur LinkedIn.\n\n  \n𝟒. 𝐌𝐞𝐫𝐜𝐫𝐞𝐝𝐢 𝟏7 JUIN 𝟐𝟎𝟐𝟔 : ATELIER PRATIQUE (TEXTES) \nPar Magali Veronesi \n\n Construis ton storytelling.\n Les questions à te poser avant de publier.\n Comment placer tes appels à l’action.\n Choisis tes contenus en fonction du message.\n Parle de toi avec authenticité.\n Optimise tes avis clients\n\n  \n𝟓. 𝐌𝐞𝐫𝐜𝐫𝐞𝐝𝐢 24 JUIN 𝟐𝟎𝟐𝟔 : ATELIER PRATIQUE (VISUELS) \nPar Magali Veronesi \n\n Utilisation de Canva pour LinkedIn.\n Crée des visuels pros sans être graphiste.\n Réalise rapidement des carrousels efficaces.\n Réalise des bannières et visuels séduisants.\n Assurer cohérence visuelle et lisibilité.\n Monte facilement une vidéo impactante.\n Gagne du temps dans la création de contenus.\n\n  \nINSCRIPTIONS ET CONDITIONS DE PARTICIPATION\n  \nPrérequis :\n\nAvoir un profil personnel sur Linkedin et le mot de passe du compte sous la main ;\nDisposer d’un PC car les fonctionnalités ne sont pas identiques sur l’application smartphone ;\n\n  \nGratuité de la formation via le dispositif des chèques entreprises.\n  \nPour y participer\, il suffit d’être inscrite comme porteur de projet sur la plate-forme www.cheques-entreprises.be. \nToute personne peut bénéficier de ce dispositif d’accompagnement à la création d’entreprise (salarié\, chômeur\, indépendant à titre complémentaire ou tout autre statut). \n  \nUn indépendant à titre principal peut en bénéficier également si c’est dans le cadre du lancement d’une nouvelle activité ou dans le cadre d’une diversification des activités existantes. \nLe dispositif prévoit que le porteur de projet doit payer une quote-part de 20% de la mission. Dans le cadre cette session\, le montant de la mission est de 2.400€ et la quote-part à avancer est de 480 €. \n  \nCe montant vous est remboursé à la clôture administrative de la session. De cette façon\, nous assurons la gratuité de la formation. \n  \nContact formation : \n  \nMagali VERONESI – 0476/56 94 67 – magaliveronesi@yahoo.fr \n  \nHélène NENQUIN – 0471/43 66 49 – helene.nenquin@gmail.com \n  \nContact administratif (chèques-entreprises) :\n  \nMALHERBE Michaël – 0496/25 14 28 – mm@gow-entreprendre.be
URL:https://www.gow-entreprendre.be/formation/linkedin-pour-booster-ton-business-en-2026/
CATEGORIES:Workshop
ATTACH;FMTTYPE=image/png:https://www.gow-entreprendre.be/wp-content/uploads/2026/04/couverture-evenement-Linkedin-copie.png
END:VEVENT
BEGIN:VEVENT
DTSTART;TZID=UTC:20260604T090000
DTEND;TZID=UTC:20260702T130000
DTSTAMP:20260421T234520
CREATED:20260415T042351Z
LAST-MODIFIED:20260415T042351Z
UID:4455-1780563600-1782997200@www.gow-entreprendre.be
SUMMARY:5 matinées pour rendre ton site visible\, vivant et performant auprès de tes client(e)s
DESCRIPTION:Tu as un site web\, mais…\nil n’attire pas vraiment de clients ?\ntu as l’impression qu’il dort au lieu de travailler pour toi ?\n tu publies du contenu (ou tu aimerais)\, mais tu ne sais pas s’il est bien optimisé ? \nCe workshop est fait pour toi.\nPendant 5 matinées dynamiques\, on va transformer ton site en un véritable outil de visibilité et de conversion\, grâce au référencement naturel (SEO)\, à une stratégie de contenu claire et à quelques astuces d’intelligence artificielle bien ciblées. \n  \nPourquoi participer ? \nAvoir un joli site\, c’est bien.\nMais avoir un site visible sur Google\, cohérent sur les réseaux sociaux\, et qui attire naturellement les bons clients\, c’est encore mieux. \nTu apprendras à :\n   \n\nComprendre comment fonctionne Google et pourquoi ton site n’apparaît pas encore dans les premiers résultats.\nTrouver les bons mots-clés\, ceux que tes client·e·s utilisent vraiment.\nÉcrire du contenu optimisé\, sans trahir ton style ou tes valeurs.\nUtiliser les bons outils (et un peu d’IA) pour aller plus vite\, sans sacrifier la qualité.\nConnecter ta stratégie SEO avec tes réseaux sociaux.\nSuivre les résultats et ajuster ta stratégie pour booster ta visibilité.\n\nQuand ? \n5 matinées de 4h (9h à 13h)\nTous les jeudis du 04 Juin au 02 Juillet  2026 \n  \nRésultat ? \nÀ la fin du workshop\, tu sauras comment : \n\nfaire remonter ton site dans les résultats de recherche\,\nattirer naturellement les bons visiteurs\,\nconvertir tes visiteurs en client·e·s\,\net piloter ton SEO de façon simple\, autonome et efficace.\n\nTon site ne sera plus une vitrine statique\, mais un véritable moteur de croissance ! \n  \nDétail du programme séance par séance\n  \nJeudi 04/06/2026 : Les bases du SEO et la recherche de mots clés (9h-13h) \n\nComprendre le fonctionnement de Google et les grands principes du SEO.\nIdentifier les bons mots-clés pour ton activité.\nDécouvrir les outils gratuits et payants pour t’aider (Google Keyword Planner\, SEMrush\, etc.).\nAtelier pratique : définir ton positionnement\, ta cible et tes mots-clés stratégiques.\n\n  \nJeudi 11/06/2026 : Optimiser ton site web (9h-13h) \n\nComment construire une page SEO-friendly.\nBien utiliser les balises titres\, descriptions et liens internes.\nStructurer tes pages pour que Google (et tes visiteurs) s’y retrouvent.\nAtelier : diagnostic SEO de ton site et plan d’action concret.\n\n\nJeudi 18/06/2026 : Créer du contenu qui attire et convertit (9h-13h) \n\nRédiger du contenu authentique\, engageant et optimisé.\nTrouver les bons formats (articles\, pages\, visuels\, etc.).\nDécouvrir comment l’IA peut t’aider à rédiger plus vite… sans perdre ton ton unique.\nAtelier : écris un article de blog ou une page optimisée pour ton site.\n\n  \nJeudi 25/06/2026 : Réseaux sociaux\, SEO  et visibilité globale (9h-13h) \n\nComment le SEO influence ta visibilité sur les réseaux sociaux.\nBonnes pratiques pour que ton contenu social soutienne ton référencement.\nLe SEO local : booster ta présence dans ta région (Google Business Profile\, avis\, etc.).\nAtelier : créer un plan de contenu global (site + réseaux).\n\n  \nJeudi 02/07/2026 : Suivre et faire évaluer ta stratégie (9h-13h) \n\nUtiliser Google Analytics et Google Search Console pour suivre tes résultats.\nLire les données clés et ajuster ta stratégie.\nComprendre comment l’IA peut t’aider à analyser et améliorer ton SEO.\nAtelier : ton tableau de bord SEO personnalisé.\n\n  \nComment s’inscrire ?\nGratuité de la formation via le dispositif des chèques entreprises \n Pour y participer\, il suffit d’être inscrite comme porteur de projet sur la plate-forme www.cheques-entreprises.be (On te transmet le mode d’emploi).\n Toute personne peut bénéficier de ce dispositif d’accompagnement à la création d’entreprise (salarié\, chômeur\, indépendant à titre complémentaire ou tout autre statut).\n Un indépendant à titre principal peut en bénéficier également si c’est dans le cadre du lancement d’une nouvelle activité ou dans le cadre d’une diversification des activités existantes.\n Pour y participer\, il suffit d’être inscrite comme porteur de projet sur la plate-forme www.cheques-entreprises.be (pssst: on te transmet le mode d’emploi).\n  Le dispositif prévoit que le porteur de projet doit payer une quote-part de 20% de la mission. Dans le cadre cette session\, le montant de la mission est de 2.400 et la quote-part à avancer est de 480 €.\n Ce montant vous est remboursé à la clôture administrative de la session. De cette façon\, nous assurons la gratuité de la formation. \n  \n Contact Formation : Florence TORNINCASA –  florence@gow-entreprendre.be  \nContact « Chèques Entreprises » : Michaël MALHERBE – 0496 25 14 28 – mm@gow-entreprendre.be 
URL:https://www.gow-entreprendre.be/formation/5-matinees-pour-rendre-ton-site-visible-vivant-et-performant-aupres-de-tes-clientes/
CATEGORIES:Workshop
ATTACH;FMTTYPE=image/jpeg:https://www.gow-entreprendre.be/wp-content/uploads/2026/04/Formation-SEO.jpg
END:VEVENT
END:VCALENDAR